BEGIN:VCALENDAR
VERSION:2.0
PRODID:-//Andretti Global - ECPv6.15.14//NONSGML v1.0//EN
CALSCALE:GREGORIAN
METHOD:PUBLISH
X-ORIGINAL-URL:https://andrettiglobal.com
X-WR-CALDESC:Events for Andretti Global
REFRESH-INTERVAL;VALUE=DURATION:PT1H
X-Robots-Tag:noindex
X-PUBLISHED-TTL:PT1H
BEGIN:VTIMEZONE
TZID:America/Indiana/Indianapolis
BEGIN:DAYLIGHT
TZOFFSETFROM:-0500
TZOFFSETTO:-0400
TZNAME:EDT
DTSTART:20240310T070000
END:DAYLIGHT
BEGIN:STANDARD
TZOFFSETFROM:-0400
TZOFFSETTO:-0500
TZNAME:EST
DTSTART:20241103T060000
END:STANDARD
BEGIN:DAYLIGHT
TZOFFSETFROM:-0500
TZOFFSETTO:-0400
TZNAME:EDT
DTSTART:20250309T070000
END:DAYLIGHT
BEGIN:STANDARD
TZOFFSETFROM:-0400
TZOFFSETTO:-0500
TZNAME:EST
DTSTART:20251102T060000
END:STANDARD
BEGIN:DAYLIGHT
TZOFFSETFROM:-0500
TZOFFSETTO:-0400
TZNAME:EDT
DTSTART:20260308T070000
END:DAYLIGHT
BEGIN:STANDARD
TZOFFSETFROM:-0400
TZOFFSETTO:-0500
TZNAME:EST
DTSTART:20261101T060000
END:STANDARD
END:VTIMEZONE
BEGIN:VEVENT
DTSTART;VALUE=DATE:20250712
DTEND;VALUE=DATE:20250713
DTSTAMP:20260425T232152
CREATED:20240814T150159Z
LAST-MODIFIED:20241030T172907Z
UID:13103-1752278400-1752364799@andrettiglobal.com
SUMMARY:2025 Berlin E-Prix I
DESCRIPTION:Berlin maintains its accolade of being the only city to be present on the calendar since Season 1. This time racing is set to run Saturday 12 and Sunday 13 July\, as the first of two European double headers to close out Season 11.
URL:https://andrettiglobal.com/event/berlin-e-prix-round-13/
LOCATION:Tempelhof Airport Street Circuit\, Tempelhofer Feld\, Berlin\, Tempelhofer Damm\, 12101\, Germany
CATEGORIES:formula-e
ATTACH;FMTTYPE=image/webp:https://andrettiglobal.com/wp-content/uploads/2024/08/14_15_Berlin.webp
END:VEVENT
BEGIN:VEVENT
DTSTART;VALUE=DATE:20250713
DTEND;VALUE=DATE:20250714
DTSTAMP:20260425T232152
CREATED:20240814T150245Z
LAST-MODIFIED:20241030T172914Z
UID:13107-1752364800-1752451199@andrettiglobal.com
SUMMARY:2025 Berlin E-Prix II
DESCRIPTION:Berlin maintains its accolade of being the only city to be present on the calendar since Season 1. This time racing is set to run Saturday 12 and Sunday 13 July\, as the first of two European double headers to close out Season 11.
URL:https://andrettiglobal.com/event/berlin-e-prix-round-14/
LOCATION:Tempelhof Airport Street Circuit\, Tempelhofer Feld\, Berlin\, Tempelhofer Damm\, 12101\, Germany
CATEGORIES:formula-e
ATTACH;FMTTYPE=image/webp:https://andrettiglobal.com/wp-content/uploads/2024/08/14_15_Berlin.webp
END:VEVENT
BEGIN:VEVENT
DTSTART;VALUE=DATE:20250726
DTEND;VALUE=DATE:20250727
DTSTAMP:20260425T232152
CREATED:20240814T150620Z
LAST-MODIFIED:20241030T172925Z
UID:13108-1753488000-1753574399@andrettiglobal.com
SUMMARY:2025 London E-Prix I
DESCRIPTION:Witness the crowning of a World Champion as Formula E returns to the capital on the 26 & 27 July 2025. \n  \nFollowing the exhilarating\, sold-out season 10 finale\, get yourself in pole position for more wheel-to-wheel action at ExCeL London.
URL:https://andrettiglobal.com/event/london-e-prix-round-15-2/
LOCATION:ExCeL London Circuit\, Custom House\, London\, Docklands\, E16\, United Kingdom
CATEGORIES:formula-e
ATTACH;FMTTYPE=image/jpeg:https://andrettiglobal.com/wp-content/uploads/2024/08/16_17_London.jpg
END:VEVENT
BEGIN:VEVENT
DTSTART;VALUE=DATE:20250727
DTEND;VALUE=DATE:20250728
DTSTAMP:20260425T232152
CREATED:20240814T150700Z
LAST-MODIFIED:20241030T172932Z
UID:13111-1753574400-1753660799@andrettiglobal.com
SUMMARY:2025 London E-Prix II
DESCRIPTION:Witness the crowning of a World Champion as Formula E returns to the capital on the 26 & 27 July 2025. \n  \nFollowing the exhilarating\, sold-out season 10 finale\, get yourself in pole position for more wheel-to-wheel action at ExCeL London.
URL:https://andrettiglobal.com/event/london-e-prix-round-16-2/
LOCATION:ExCeL London Circuit\, Custom House\, London\, Docklands\, E16\, United Kingdom
CATEGORIES:formula-e
ATTACH;FMTTYPE=image/jpeg:https://andrettiglobal.com/wp-content/uploads/2024/08/16_17_London.jpg
END:VEVENT
END:VCALENDAR