BEGIN:VCALENDAR
VERSION:2.0
PRODID:-//Andretti Global - ECPv6.15.14//NONSGML v1.0//EN
CALSCALE:GREGORIAN
METHOD:PUBLISH
X-WR-CALNAME:Andretti Global
X-ORIGINAL-URL:https://andrettiglobal.com
X-WR-CALDESC:Events for Andretti Global
REFRESH-INTERVAL;VALUE=DURATION:PT1H
X-Robots-Tag:noindex
X-PUBLISHED-TTL:PT1H
BEGIN:VTIMEZONE
TZID:America/Indiana/Indianapolis
BEGIN:DAYLIGHT
TZOFFSETFROM:-0500
TZOFFSETTO:-0400
TZNAME:EDT
DTSTART:20230312T070000
END:DAYLIGHT
BEGIN:STANDARD
TZOFFSETFROM:-0400
TZOFFSETTO:-0500
TZNAME:EST
DTSTART:20231105T060000
END:STANDARD
BEGIN:DAYLIGHT
TZOFFSETFROM:-0500
TZOFFSETTO:-0400
TZNAME:EDT
DTSTART:20240310T070000
END:DAYLIGHT
BEGIN:STANDARD
TZOFFSETFROM:-0400
TZOFFSETTO:-0500
TZNAME:EST
DTSTART:20241103T060000
END:STANDARD
BEGIN:DAYLIGHT
TZOFFSETFROM:-0500
TZOFFSETTO:-0400
TZNAME:EDT
DTSTART:20250309T070000
END:DAYLIGHT
BEGIN:STANDARD
TZOFFSETFROM:-0400
TZOFFSETTO:-0500
TZNAME:EST
DTSTART:20251102T060000
END:STANDARD
END:VTIMEZONE
BEGIN:VEVENT
DTSTART;VALUE=DATE:20241207
DTEND;VALUE=DATE:20241208
DTSTAMP:20260425T095256
CREATED:20240814T134245Z
LAST-MODIFIED:20240819T142706Z
UID:13070-1733529600-1733615999@andrettiglobal.com
SUMMARY:2024 São Paulo E-Prix
DESCRIPTION:Formula E returns to the streets of São Paulo to kick off Season 11 on 7 December\, 2024. At the Sambadrome\, fans will see the faster\, stronger and more sustainable GEN3 Evo\, marking the first time that Brazil has hosted the Formula E season-opener.
URL:https://andrettiglobal.com/event/sao-paulo-e-prix-round-1/
LOCATION:São Paulo Street Circuit\, Anhembi Sambadrome\, São Paulo\, Santana\, 1209\, Brazil
CATEGORIES:formula-e
ATTACH;FMTTYPE=image/jpeg:https://andrettiglobal.com/wp-content/uploads/2024/08/01_Sao-Paulo.jpg
END:VEVENT
END:VCALENDAR