BEGIN:VCALENDAR
VERSION:2.0
PRODID:-//Andretti Global - ECPv6.15.14//NONSGML v1.0//EN
CALSCALE:GREGORIAN
METHOD:PUBLISH
X-WR-CALNAME:Andretti Global
X-ORIGINAL-URL:https://andrettiglobal.com
X-WR-CALDESC:Events for Andretti Global
REFRESH-INTERVAL;VALUE=DURATION:PT1H
X-Robots-Tag:noindex
X-PUBLISHED-TTL:PT1H
BEGIN:VTIMEZONE
TZID:America/New_York
BEGIN:DAYLIGHT
TZOFFSETFROM:-0500
TZOFFSETTO:-0400
TZNAME:EDT
DTSTART:20240310T070000
END:DAYLIGHT
BEGIN:STANDARD
TZOFFSETFROM:-0400
TZOFFSETTO:-0500
TZNAME:EST
DTSTART:20241103T060000
END:STANDARD
BEGIN:DAYLIGHT
TZOFFSETFROM:-0500
TZOFFSETTO:-0400
TZNAME:EDT
DTSTART:20250309T070000
END:DAYLIGHT
BEGIN:STANDARD
TZOFFSETFROM:-0400
TZOFFSETTO:-0500
TZNAME:EST
DTSTART:20251102T060000
END:STANDARD
BEGIN:DAYLIGHT
TZOFFSETFROM:-0500
TZOFFSETTO:-0400
TZNAME:EDT
DTSTART:20260308T070000
END:DAYLIGHT
BEGIN:STANDARD
TZOFFSETFROM:-0400
TZOFFSETTO:-0500
TZNAME:EST
DTSTART:20261101T060000
END:STANDARD
END:VTIMEZONE
BEGIN:VTIMEZONE
TZID:America/Indiana/Indianapolis
BEGIN:DAYLIGHT
TZOFFSETFROM:-0500
TZOFFSETTO:-0400
TZNAME:EDT
DTSTART:20240310T070000
END:DAYLIGHT
BEGIN:STANDARD
TZOFFSETFROM:-0400
TZOFFSETTO:-0500
TZNAME:EST
DTSTART:20241103T060000
END:STANDARD
BEGIN:DAYLIGHT
TZOFFSETFROM:-0500
TZOFFSETTO:-0400
TZNAME:EDT
DTSTART:20250309T070000
END:DAYLIGHT
BEGIN:STANDARD
TZOFFSETFROM:-0400
TZOFFSETTO:-0500
TZNAME:EST
DTSTART:20251102T060000
END:STANDARD
BEGIN:DAYLIGHT
TZOFFSETFROM:-0500
TZOFFSETTO:-0400
TZNAME:EDT
DTSTART:20260308T070000
END:DAYLIGHT
BEGIN:STANDARD
TZOFFSETFROM:-0400
TZOFFSETTO:-0500
TZNAME:EST
DTSTART:20261101T060000
END:STANDARD
END:VTIMEZONE
BEGIN:VEVENT
DTSTART;TZID=America/New_York:20250706T000000
DTEND;TZID=America/New_York:20250706T235900
DTSTAMP:20260421T095106
CREATED:20240105T194850Z
LAST-MODIFIED:20240916T201355Z
UID:6854-1751760000-1751846340@andrettiglobal.com
SUMMARY:Honda Indy 200 AT Mid-Ohio
DESCRIPTION:80 LAPS | 180.64 MILES\nThe Mid-Ohio Sports Car Course in Lexington\, Ohio\, approximately halfway between Columbus and Cleveland\, is a 2.258-mile\, 13-turn natural-terrain road course that offers a little of everything — elevation changes\, high-speed corners\, flowing corners\, tight corners\, a narrow (40 feet) racing ribbon and a challenging entry to pit lane.
URL:https://andrettiglobal.com/event/honda-indy-200-at-mid-ohio/
LOCATION:Lexington\, Lexington\, OH\, United States
CATEGORIES:indycar
ATTACH;FMTTYPE=image/jpeg:https://andrettiglobal.com/wp-content/uploads/2024/01/06302023MidOhio-3559.jpg
END:VEVENT
BEGIN:VEVENT
DTSTART;TZID=America/New_York:20250622T000000
DTEND;TZID=America/New_York:20250622T235900
DTSTAMP:20260421T095106
CREATED:20240105T194030Z
LAST-MODIFIED:20240916T200844Z
UID:6838-1750550400-1750636740@andrettiglobal.com
SUMMARY:Road America
DESCRIPTION:55 LAPS | 220.55 MILES\nEstablished in 1955\, Road America is located midway between Milwaukee and Green Bay in Elkhart Lake\, Wisconsin. Its legendary four-mile\, 14-turn road circuit has challenged the world’s best racers for over a half century. The 640-acre\, park-like grounds offer amazing viewing opportunities\, fantastic concessions and high-speed excitement to thousands of spectators each year. In addition to public race weekends such as the Sonsio Grand Prix at Road America\, the track offers group event programs\, the Road America Motorplex for karting and supermoto\, and the Road America Motorcycle and Advanced Driving Schools.
URL:https://andrettiglobal.com/event/road-america/
LOCATION:Elkhart lake\, Elkhart Lake\, WI\, United States
CATEGORIES:indycar
ATTACH;FMTTYPE=image/jpeg:https://andrettiglobal.com/wp-content/uploads/2024/01/RA_061623-9162.jpg
END:VEVENT
BEGIN:VEVENT
DTSTART;TZID=America/New_York:20250615T000000
DTEND;TZID=America/New_York:20250615T235900
DTSTAMP:20260421T095106
CREATED:20240105T195456Z
LAST-MODIFIED:20240916T201300Z
UID:6877-1749945600-1750031940@andrettiglobal.com
SUMMARY:Bommarito Automotive Group 500
DESCRIPTION:260 LAPS | 500 KILOMETERS\nWorld Wide Technology Raceway\, located just outside of St. Louis\, Missouri \, in the Metro East city of Madison\, Illinois\, is an intriguing 1.25-mile (2.01 km) oval favored by many of the drivers who race there due to the unique shape and varying degrees of banking in each corner. Turns 1 & 2 have characteristics similar to New Hampshire Motor Speedway while Turns 3 & 4 are similar to Phoenix Raceway and the track’s egg shape is reminiscent of the oval at Twin Ring Motegi.
URL:https://andrettiglobal.com/event/bommarito-automotive-group-500/
LOCATION:Madison\, Madison\, IL\, United States
CATEGORIES:indycar
ATTACH;FMTTYPE=image/jpeg:https://andrettiglobal.com/wp-content/uploads/2024/01/St_-Louis-Arch-Bommarito-Automotive-Group-500-By_-Chris-Owens_Ref-Image-Without-Watermark_m68454-e1710430792285.jpg
END:VEVENT
BEGIN:VEVENT
DTSTART;TZID=America/New_York:20250601T000000
DTEND;TZID=America/New_York:20250601T235900
DTSTAMP:20260421T095106
CREATED:20240105T193712Z
LAST-MODIFIED:20240916T200718Z
UID:6835-1748736000-1748822340@andrettiglobal.com
SUMMARY:Chevrolet Detroit Grand Prix
DESCRIPTION:100 LAPS | 164.5 MILES\n\n\n\n\nA new era of the Detroit Grand Prix will begin in 2023 when the event returns to its original home on the streets of Downtown Detroit. The new Grand Prix will feature three full days of activities and celebration on some of Detroit’s most popular and active Downtown areas\, including racing on a new 1.645-mile\, nine-turn street circuit along Jefferson Avenue\, Bates Street\, Atwater Street\, St. Antoine\, Franklin Street and Rivard.
URL:https://andrettiglobal.com/event/chevrolet-detroit-grand-prix/
LOCATION:Streets of Detroit\, Detroit\, MI\, United States
CATEGORIES:indycar
ATTACH;FMTTYPE=image/jpeg:https://andrettiglobal.com/wp-content/uploads/2024/01/Starting-Grid-Chevrolet-Detroit-Grand-Prix-presented-by-Lear-By_-James-Black_Ref-Image-Without-Watermark_m84385-e1710437403848.jpg
END:VEVENT
BEGIN:VEVENT
DTSTART;TZID=America/New_York:20250525T000000
DTEND;TZID=America/New_York:20250525T235900
DTSTAMP:20260421T095106
CREATED:20240105T190657Z
LAST-MODIFIED:20240916T200649Z
UID:6817-1748131200-1748217540@andrettiglobal.com
SUMMARY:109th Running of the Indianapolis 500
DESCRIPTION:200 LAPS | 500 MILES\nWith four corners banked at 9 degrees\, 12 minutes\, the Indianapolis Motor Speedway drives more like a road course than an oval. But each of the corners is different\, with weather influencing the car’s characteristics. The straightaways are 5/8ths of a mile long — time to catch your breath and dive into the next corner.
URL:https://andrettiglobal.com/event/108th-running-of-the-indianapolis-500/
LOCATION:Indianapolis\, Indianapolis\, IN\, United States
CATEGORIES:indycar
ATTACH;FMTTYPE=image/jpeg:https://andrettiglobal.com/wp-content/uploads/2024/01/Indy-500.jpg
END:VEVENT
BEGIN:VEVENT
DTSTART;TZID=America/New_York:20250510T000000
DTEND;TZID=America/New_York:20250510T235900
DTSTAMP:20260421T095106
CREATED:20240105T192538Z
LAST-MODIFIED:20240916T201209Z
UID:6828-1746835200-1746921540@andrettiglobal.com
SUMMARY:Sonsio Grand Prix
DESCRIPTION:85 LAPS | 207.32 MILES\nThe 2.439-mile\, 14-turn road course incorporates portions of Turns 1 and 2 and the frontstraight of the famed Indianapolis Motor Speedway oval and the remainder of the circuit is within the infield\, allowing for great spectator viewing.
URL:https://andrettiglobal.com/event/sonsio-grand-prix/
LOCATION:Indianapolis\, Indianapolis\, IN\, United States
CATEGORIES:indycar
ATTACH;FMTTYPE=image/jpeg:https://andrettiglobal.com/wp-content/uploads/2024/01/indy220529-29740.jpg
END:VEVENT
BEGIN:VEVENT
DTSTART;VALUE=DATE:20250504
DTEND;VALUE=DATE:20250505
DTSTAMP:20260421T095106
CREATED:20240105T181315Z
LAST-MODIFIED:20240916T201120Z
UID:374-1746316800-1746403199@andrettiglobal.com
SUMMARY:Children's of Alabama Indy Grand Prix
DESCRIPTION:90 LAPS | 207 MILES\nBarber Motorsports Park just outside of Birmingham\, Alabama is a 2.3-mile permanent road course with 17 flowing turns and features 80 feet of elevation change that challenge drivers and engineers. A 45-foot-wide racing ribbon also makes it imperative for patience while setting up overtaking opportunities.
URL:https://andrettiglobal.com/event/childrens-of-alabama-indy-grand-prix/
LOCATION:Barber Motorsports Park\, 6040 Barber Motorsports Pkwy\, Leeds\, AL\, 35094\, United States
CATEGORIES:indycar
ATTACH;FMTTYPE=image/jpeg:https://andrettiglobal.com/wp-content/uploads/2024/01/Barber-2.jpg
END:VEVENT
BEGIN:VEVENT
DTSTART;TZID=America/New_York:20250413T080000
DTEND;TZID=America/New_York:20250413T170000
DTSTAMP:20260421T095106
CREATED:20240105T175810Z
LAST-MODIFIED:20240916T200355Z
UID:370-1744531200-1744563600@andrettiglobal.com
SUMMARY:Acura Grand Prix of Long Beach
DESCRIPTION:85 LAPS | 167.28 MILES\nThe 1.968-mile\, 11-turn temporary street circuit encircles the Long Beach Convention Center — which houses a Family Fun Zone and numerous displays during the race weekend — and runs down scenic Shoreline Drive. It offers numerous overtaking opportunities\, including Turn 1\, getting the hairpin turn just before the frontstretch right is critical.
URL:https://andrettiglobal.com/event/acura-grand-prix-of-long-beach/
LOCATION:Streets of Long Beach\, Long Beach\, CA\, United States
CATEGORIES:indycar
ATTACH;FMTTYPE=image/jpeg:https://andrettiglobal.com/wp-content/uploads/2024/01/Long-Beach.jpg
END:VEVENT
BEGIN:VEVENT
DTSTART;VALUE=DATE:20250323
DTEND;VALUE=DATE:20250324
DTSTAMP:20260421T095106
CREATED:20250310T194242Z
LAST-MODIFIED:20250310T194242Z
UID:13865-1742688000-1742774399@andrettiglobal.com
SUMMARY:The Thermal Club INDYCAR Grand Prix
DESCRIPTION:65 Laps | 199.36 Miles \nThe Twin Palms layout at the Thermal Club is a 3.067-mile (4.82-km) raceway which includes most of that South Palm circuit and adds a highly demanding trajectory on top to get to a total of 19 turns. The layout consists of sweepers\, tight corners\, long straightaways\, and elevation changes\, providing a proper driving and engineering challenge to teams.
URL:https://andrettiglobal.com/event/the-thermal-club-indycar-grand-prix/
LOCATION:Thermal\, CA\, United States\, Thermal\, CA\, United States
CATEGORIES:indycar
ATTACH;FMTTYPE=image/jpeg:https://andrettiglobal.com/wp-content/uploads/2025/03/Thermal-NoTitle.jpg
END:VEVENT
BEGIN:VEVENT
DTSTART;VALUE=DATE:20250302
DTEND;VALUE=DATE:20250303
DTSTAMP:20260421T095106
CREATED:20240117T191328Z
LAST-MODIFIED:20240916T203651Z
UID:11624-1740873600-1740959999@andrettiglobal.com
SUMMARY:Firestone Grand Prix of St. Petersburg
DESCRIPTION:100 LAPS | 180 Miles\nThe 1.8-mile\, 14-turn (5 lefts\, 9 rights) circuit incorporates streets of downtown St. Petersburg and a section of runway of Albert Whitted Airport. After the long frontstretch\, there’s a tight right-hander into Turn 1 and then a quick left-hand turn. Plenty of drivers have gotten into trouble in these two turns over the years. There are two other long straights with heavy braking zones that afford opportunities to overtake.
URL:https://andrettiglobal.com/event/firestone-grand-prix-of-st-petersburg/
LOCATION:Streets of St. Petersburg\, St. Petersburg\, FL\, United States
CATEGORIES:indycar
ATTACH;FMTTYPE=image/jpeg:https://andrettiglobal.com/wp-content/uploads/2024/01/StPete-030102024-1172.jpg
END:VEVENT
BEGIN:VEVENT
DTSTART;TZID=America/New_York:20250727T000000
DTEND;TZID=America/New_York:20250727T235900
DTSTAMP:20260421T095106
CREATED:20240105T194322Z
LAST-MODIFIED:20240916T201644Z
UID:6844-1753574400-1753660740@andrettiglobal.com
SUMMARY:Firestone Grand Prix of Monterey
DESCRIPTION:95 LAPS | 212.61 MILES\n\n\nWeatherTech Raceway Laguna Seca (previously known as Laguna Seca Raceway) is a paved road racing track used for both auto racing and motorcycle racing\, originally constructed in 1957 near both Salinas and Monterey\, California\, USA. The current racetrack is 2.238 miles (3.602 km) in length with a 300 foot (91 m) elevation change. It has eleven turns\, including the famous “Corkscrew” at Turns 8 and 8A. A variety of racing\, exhibition and entertainment events are held at the raceway\, ranging from superkarts to American Le Mans racing to music festivals. \nThe name Laguna Seca is Spanish for “dry lake”. The area where the track is was originally a lake. The course was originally built around the lake\, which has since dried up entirely. An artificial pond has since been added.
URL:https://andrettiglobal.com/event/firestone-grand-prix-of-monterey/
LOCATION:Monterey\, Monterey\, CA\, United States
CATEGORIES:indycar
ATTACH;FMTTYPE=image/jpeg:https://andrettiglobal.com/wp-content/uploads/2024/01/Laguna-Seca-1.jpg
END:VEVENT
BEGIN:VEVENT
DTSTART;VALUE=DATE:20250323
DTEND;VALUE=DATE:20250324
DTSTAMP:20260421T095106
CREATED:20240105T173152Z
LAST-MODIFIED:20240916T203229Z
UID:366-1742688000-1742774399@andrettiglobal.com
SUMMARY:The Thermal Club
DESCRIPTION:20 LAPS | 61.34 miles\nThe NTT INDYCAR SERIES heads to The Thermal Club for a unique\, made-for-TV racing exhibition. The special event from sunny Southern California will offer a $1 million prize to the winner and will receive a network broadcast showcase on NBC. \nThe weekend format will include a qualifying session and two heat races\, with the top six from each heat advancing to an All-Star showcase. While championship points will not be on the line\, the event will feature a multimillion-dollar purse. \nEstablished in 2012\, The Thermal Club in Thermal\, California\, just outside of Palm Springs\, is a private motorsport country club surrounding one of the longest and most distinct racing circuits in North America. Members have access to three racetracks\, kart track\, autocross\, skid pad\, tuning shop\, garage\, detail shop\, club house and spa. One of the defining attributes of The Thermal Club are the luxury villa-homes that overlook the facility. \nThe Twin Palms layout at the Thermal Club is a 3-mile (4.82-km) Raceway which includes most of that South Palm circuit and adds a highly demanding trajectory on top to get to a total of 19 turns. The layout consists of sweepers\, tight corners\, long straightaways\, and elevation changes\, providing a proper driving and engineering challenge to teams.
URL:https://andrettiglobal.com/event/the-thermal-club-1-million-challenge/
LOCATION:The Thermal Club\, Palm Springs\, CA\, United States
CATEGORIES:indycar
ATTACH;FMTTYPE=image/jpeg:https://andrettiglobal.com/wp-content/uploads/2024/01/Thermal-1.jpg
END:VEVENT
END:VCALENDAR