BEGIN:VCALENDAR
VERSION:2.0
PRODID:-//Andretti Global - ECPv6.15.14//NONSGML v1.0//EN
CALSCALE:GREGORIAN
METHOD:PUBLISH
X-WR-CALNAME:Andretti Global
X-ORIGINAL-URL:https://andrettiglobal.com
X-WR-CALDESC:Events for Andretti Global
REFRESH-INTERVAL;VALUE=DURATION:PT1H
X-Robots-Tag:noindex
X-PUBLISHED-TTL:PT1H
BEGIN:VTIMEZONE
TZID:America/Indiana/Indianapolis
BEGIN:DAYLIGHT
TZOFFSETFROM:-0500
TZOFFSETTO:-0400
TZNAME:EDT
DTSTART:20250309T070000
END:DAYLIGHT
BEGIN:STANDARD
TZOFFSETFROM:-0400
TZOFFSETTO:-0500
TZNAME:EST
DTSTART:20251102T060000
END:STANDARD
BEGIN:DAYLIGHT
TZOFFSETFROM:-0500
TZOFFSETTO:-0400
TZNAME:EDT
DTSTART:20260308T070000
END:DAYLIGHT
BEGIN:STANDARD
TZOFFSETFROM:-0400
TZOFFSETTO:-0500
TZNAME:EST
DTSTART:20261101T060000
END:STANDARD
BEGIN:DAYLIGHT
TZOFFSETFROM:-0500
TZOFFSETTO:-0400
TZNAME:EDT
DTSTART:20270314T070000
END:DAYLIGHT
BEGIN:STANDARD
TZOFFSETFROM:-0400
TZOFFSETTO:-0500
TZNAME:EST
DTSTART:20271107T060000
END:STANDARD
END:VTIMEZONE
BEGIN:VEVENT
DTSTART;VALUE=DATE:20260329
DTEND;VALUE=DATE:20260330
DTSTAMP:20260421T095128
CREATED:20251027T154335Z
LAST-MODIFIED:20251027T185135Z
UID:15559-1774742400-1774828799@andrettiglobal.com
SUMMARY:Barber Motorsports Park
DESCRIPTION:
URL:https://andrettiglobal.com/event/barber-motorsports-park-2/
LOCATION:Barber Motorsports Park\, 6040 Barber Motorsports Pkwy\, Leeds\, AL\, 35094\, United States
CATEGORIES:indycar
ATTACH;FMTTYPE=image/jpeg:https://andrettiglobal.com/wp-content/uploads/2025/10/IndyBarber_0501_161955_69561_FH.jpg
END:VEVENT
END:VCALENDAR