BEGIN:VCALENDAR
VERSION:2.0
PRODID:-//Andretti Global - ECPv6.15.14//NONSGML v1.0//EN
CALSCALE:GREGORIAN
METHOD:PUBLISH
X-ORIGINAL-URL:https://andrettiglobal.com
X-WR-CALDESC:Events for Andretti Global
REFRESH-INTERVAL;VALUE=DURATION:PT1H
X-Robots-Tag:noindex
X-PUBLISHED-TTL:PT1H
BEGIN:VTIMEZONE
TZID:America/New_York
BEGIN:DAYLIGHT
TZOFFSETFROM:-0500
TZOFFSETTO:-0400
TZNAME:EDT
DTSTART:20240310T070000
END:DAYLIGHT
BEGIN:STANDARD
TZOFFSETFROM:-0400
TZOFFSETTO:-0500
TZNAME:EST
DTSTART:20241103T060000
END:STANDARD
BEGIN:DAYLIGHT
TZOFFSETFROM:-0500
TZOFFSETTO:-0400
TZNAME:EDT
DTSTART:20250309T070000
END:DAYLIGHT
BEGIN:STANDARD
TZOFFSETFROM:-0400
TZOFFSETTO:-0500
TZNAME:EST
DTSTART:20251102T060000
END:STANDARD
BEGIN:DAYLIGHT
TZOFFSETFROM:-0500
TZOFFSETTO:-0400
TZNAME:EDT
DTSTART:20260308T070000
END:DAYLIGHT
BEGIN:STANDARD
TZOFFSETFROM:-0400
TZOFFSETTO:-0500
TZNAME:EST
DTSTART:20261101T060000
END:STANDARD
END:VTIMEZONE
BEGIN:VEVENT
DTSTART;VALUE=DATE:20250726
DTEND;VALUE=DATE:20250727
DTSTAMP:20260422T200010
CREATED:20240105T194253Z
LAST-MODIFIED:20240916T202245Z
UID:6841-1753488000-1753574399@andrettiglobal.com
SUMMARY:WeatherTech Raceway Laguna Seca Race 1
DESCRIPTION:35 LAPS | 78.33 MILES\nWeatherTech Raceway Laguna Seca (previously known as Laguna Seca Raceway) is a paved road racing track used for both auto racing and motorcycle racing\, originally constructed in 1957 near both Salinas and Monterey\, California\, USA. The current racetrack is 2.238 miles (3.602 km) in length with a 300 foot (91 m) elevation change. It has eleven turns\, including the famous “Corkscrew” at Turns 8 and 8A. A variety of racing\, exhibition and entertainment events are held at the raceway\, ranging from superkarts to American Le Mans racing to music festivals. \nThe name Laguna Seca is Spanish for “dry lake”. The area where the track is was originally a lake. The course was originally built around the lake\, which has since dried up entirely. An artificial pond has since been added.
URL:https://andrettiglobal.com/event/weathertech-raceway-laguna-seca-race-1/
LOCATION:Monterey\, Monterey\, CA\, United States
CATEGORIES:indy-nxt
ATTACH;FMTTYPE=image/jpeg:https://andrettiglobal.com/wp-content/uploads/2024/01/Laguna-Seca-1.jpg
END:VEVENT
END:VCALENDAR