BEGIN:VCALENDAR
VERSION:2.0
PRODID:-//Andretti Global - ECPv6.15.14//NONSGML v1.0//EN
CALSCALE:GREGORIAN
METHOD:PUBLISH
X-ORIGINAL-URL:https://andrettiglobal.com
X-WR-CALDESC:Events for Andretti Global
REFRESH-INTERVAL;VALUE=DURATION:PT1H
X-Robots-Tag:noindex
X-PUBLISHED-TTL:PT1H
BEGIN:VTIMEZONE
TZID:America/Indiana/Indianapolis
BEGIN:DAYLIGHT
TZOFFSETFROM:-0500
TZOFFSETTO:-0400
TZNAME:EDT
DTSTART:20250309T070000
END:DAYLIGHT
BEGIN:STANDARD
TZOFFSETFROM:-0400
TZOFFSETTO:-0500
TZNAME:EST
DTSTART:20251102T060000
END:STANDARD
BEGIN:DAYLIGHT
TZOFFSETFROM:-0500
TZOFFSETTO:-0400
TZNAME:EDT
DTSTART:20260308T070000
END:DAYLIGHT
BEGIN:STANDARD
TZOFFSETFROM:-0400
TZOFFSETTO:-0500
TZNAME:EST
DTSTART:20261101T060000
END:STANDARD
BEGIN:DAYLIGHT
TZOFFSETFROM:-0500
TZOFFSETTO:-0400
TZNAME:EDT
DTSTART:20270314T070000
END:DAYLIGHT
BEGIN:STANDARD
TZOFFSETFROM:-0400
TZOFFSETTO:-0500
TZNAME:EST
DTSTART:20271107T060000
END:STANDARD
END:VTIMEZONE
BEGIN:VEVENT
DTSTART;VALUE=DATE:20260502
DTEND;VALUE=DATE:20260503
DTSTAMP:20260420T233419
CREATED:20250923T104206Z
LAST-MODIFIED:20250923T104206Z
UID:15402-1777680000-1777766399@andrettiglobal.com
SUMMARY:2026 Berlin E-Prix I
DESCRIPTION:Formula E lands in Europe\, as the old Tempelhof airport in Berlin hosts a pair of races. It’s become a staple on the calendar and maintains its accolade of being the only city present since the first season.
URL:https://andrettiglobal.com/event/s12-berlin-e-prix-i/
LOCATION:Tempelhof Airport Street Circuit\, Tempelhofer Feld\, Berlin\, Tempelhofer Damm\, 12101\, Germany
CATEGORIES:formula-e
ATTACH;FMTTYPE=image/jpeg:https://andrettiglobal.com/wp-content/uploads/2025/09/adam-vradenburg-TK5I5L5JGxY-unsplash.jpg
END:VEVENT
BEGIN:VEVENT
DTSTART;VALUE=DATE:20260503
DTEND;VALUE=DATE:20260504
DTSTAMP:20260420T233419
CREATED:20250923T104246Z
LAST-MODIFIED:20250923T104246Z
UID:15404-1777766400-1777852799@andrettiglobal.com
SUMMARY:2026 Berlin E-Prix II
DESCRIPTION:Formula E lands in Europe\, as the old Tempelhof airport in Berlin hosts a pair of races. It’s become a staple on the calendar and maintains its accolade of being the only city present since the first season.
URL:https://andrettiglobal.com/event/s12-berlin-e-prix-ii/
LOCATION:Tempelhof Airport Street Circuit\, Tempelhofer Feld\, Berlin\, Tempelhofer Damm\, 12101\, Germany
CATEGORIES:formula-e
ATTACH;FMTTYPE=image/jpeg:https://andrettiglobal.com/wp-content/uploads/2025/09/adam-vradenburg-TK5I5L5JGxY-unsplash.jpg
END:VEVENT
BEGIN:VEVENT
DTSTART;VALUE=DATE:20260516
DTEND;VALUE=DATE:20260517
DTSTAMP:20260420T233419
CREATED:20250923T104458Z
LAST-MODIFIED:20250923T104458Z
UID:15405-1778889600-1778975999@andrettiglobal.com
SUMMARY:2026 Monaco E-Prix I
DESCRIPTION:It’s off to the hallowed streets of Monaco. We’ve been on the full iconic circuit since Season 7 and have brought an abundance of overtakes since then. Season 12 saw a duo of races\, with the first doubleheader in Monte Carlo. It was great\, so we’re doing it again in Season 12.
URL:https://andrettiglobal.com/event/s12-monaco-e-prix-i/
LOCATION:Circuit de Monaco\, Boulevard Albert\, Monte Carlo\, Principality of Monaco\, 98000\, Monaco
CATEGORIES:formula-e
ATTACH;FMTTYPE=image/jpeg:https://andrettiglobal.com/wp-content/uploads/2025/09/rishi-jhajharia-1CkSNmbT7J0-unsplash.jpg
END:VEVENT
BEGIN:VEVENT
DTSTART;VALUE=DATE:20260517
DTEND;VALUE=DATE:20260518
DTSTAMP:20260420T233419
CREATED:20250923T104533Z
LAST-MODIFIED:20250923T104533Z
UID:15407-1778976000-1779062399@andrettiglobal.com
SUMMARY:2026 Monaco E-Prix II
DESCRIPTION:It’s off to the hallowed streets of Monaco. We’ve been on the full iconic circuit since Season 7 and have brought an abundance of overtakes since then. Season 12 saw a duo of races\, with the first doubleheader in Monte Carlo. It was great\, so we’re doing it again in Season 12.
URL:https://andrettiglobal.com/event/s12-monaco-e-prix-ii/
LOCATION:Circuit de Monaco\, Boulevard Albert\, Monte Carlo\, Principality of Monaco\, 98000\, Monaco
CATEGORIES:formula-e
ATTACH;FMTTYPE=image/jpeg:https://andrettiglobal.com/wp-content/uploads/2025/09/rishi-jhajharia-1CkSNmbT7J0-unsplash.jpg
END:VEVENT
BEGIN:VEVENT
DTSTART;VALUE=DATE:20260620
DTEND;VALUE=DATE:20260621
DTSTAMP:20260420T233419
CREATED:20250923T104836Z
LAST-MODIFIED:20251103T182934Z
UID:15409-1781913600-1781999999@andrettiglobal.com
SUMMARY:2026 Sanya E-Prix
DESCRIPTION:Sanya joins Shanghai on the Season 12 calendar\, with China now hosting two events in a single season – a clear reflection of the country’s strategic importance to Formula E and its longstanding place in the series’ history.
URL:https://andrettiglobal.com/event/s12-sanya-e-prix/
LOCATION:Haitang Bay Circuit\, Sanya\, Haitang District\, China
CATEGORIES:formula-e
ATTACH;FMTTYPE=image/jpeg:https://andrettiglobal.com/wp-content/uploads/2025/09/SYX_Original.jpg
END:VEVENT
BEGIN:VEVENT
DTSTART;VALUE=DATE:20260704
DTEND;VALUE=DATE:20260705
DTSTAMP:20260420T233419
CREATED:20250923T105028Z
LAST-MODIFIED:20250923T105028Z
UID:15410-1783123200-1783209599@andrettiglobal.com
SUMMARY:2026 Shanghai E-Prix I
DESCRIPTION:After a successful return to China in Season 10\, Shanghai is set to host another pair of races.
URL:https://andrettiglobal.com/event/s12-shanghai-e-prix-i/
LOCATION:Shanghai International Circuit\, 伊宁路2000号\, Shanghai\, Jiading District\, 201800\, China
CATEGORIES:formula-e
ATTACH;FMTTYPE=image/jpeg:https://andrettiglobal.com/wp-content/uploads/2025/09/hanny-naibaho-mnyJEvSLtvk-unsplash.jpg
END:VEVENT
BEGIN:VEVENT
DTSTART;VALUE=DATE:20260705
DTEND;VALUE=DATE:20260706
DTSTAMP:20260420T233419
CREATED:20250923T105104Z
LAST-MODIFIED:20250923T105104Z
UID:15412-1783209600-1783295999@andrettiglobal.com
SUMMARY:2026 Shanghai E-Prix II
DESCRIPTION:After a successful return to China in Season 10\, Shanghai is set to host another pair of races.
URL:https://andrettiglobal.com/event/s12-shanghai-e-prix-ii/
LOCATION:Shanghai International Circuit\, 伊宁路2000号\, Shanghai\, Jiading District\, 201800\, China
CATEGORIES:formula-e
ATTACH;FMTTYPE=image/jpeg:https://andrettiglobal.com/wp-content/uploads/2025/09/hanny-naibaho-mnyJEvSLtvk-unsplash.jpg
END:VEVENT
BEGIN:VEVENT
DTSTART;VALUE=DATE:20260725
DTEND;VALUE=DATE:20260726
DTSTAMP:20260420T233419
CREATED:20250923T105309Z
LAST-MODIFIED:20250923T105309Z
UID:15413-1784937600-1785023999@andrettiglobal.com
SUMMARY:2026 Tokyo E-Prix I
DESCRIPTION:We head to Tokyo for another doubleheader with a new slot for the Japanese capital in July.
URL:https://andrettiglobal.com/event/s12-tokyo-e-prix-i/
LOCATION:Tokyo Street Circuit\, 3 Chōme Ariake\, Tokyo\, Koto City\, 135-0063\, Japan
CATEGORIES:formula-e
ATTACH;FMTTYPE=image/jpeg:https://andrettiglobal.com/wp-content/uploads/2025/09/su-san-lee-E_eWwM29wfU-unsplash.jpg
END:VEVENT
BEGIN:VEVENT
DTSTART;VALUE=DATE:20260726
DTEND;VALUE=DATE:20260727
DTSTAMP:20260420T233419
CREATED:20250923T105345Z
LAST-MODIFIED:20250923T105345Z
UID:15415-1785024000-1785110399@andrettiglobal.com
SUMMARY:2026 Tokyo E-Prix II
DESCRIPTION:We head to Tokyo for another doubleheader with a new slot for the Japanese capital in July.
URL:https://andrettiglobal.com/event/s12-tokyo-e-prix-ii/
LOCATION:Tokyo Street Circuit\, 3 Chōme Ariake\, Tokyo\, Koto City\, 135-0063\, Japan
CATEGORIES:formula-e
ATTACH;FMTTYPE=image/jpeg:https://andrettiglobal.com/wp-content/uploads/2025/09/su-san-lee-E_eWwM29wfU-unsplash.jpg
END:VEVENT
BEGIN:VEVENT
DTSTART;VALUE=DATE:20260815
DTEND;VALUE=DATE:20260816
DTSTAMP:20260420T233419
CREATED:20250923T105533Z
LAST-MODIFIED:20250923T105533Z
UID:15416-1786752000-1786838399@andrettiglobal.com
SUMMARY:2026 London E-Prix I
DESCRIPTION:Then\, the curtain closes in London\, as the champion will again be crowned in the UK capital during a doubleheader weekend at the Excel Arena\, bringing Season 12 to an end in August.
URL:https://andrettiglobal.com/event/s12-london-e-prix-i/
LOCATION:ExCeL London Circuit\, Custom House\, London\, Docklands\, E16\, United Kingdom
CATEGORIES:formula-e
ATTACH;FMTTYPE=image/jpeg:https://andrettiglobal.com/wp-content/uploads/2025/09/jurica-koletic-MLLBlDL5bDw-unsplash.jpg
END:VEVENT
BEGIN:VEVENT
DTSTART;VALUE=DATE:20260816
DTEND;VALUE=DATE:20260817
DTSTAMP:20260420T233419
CREATED:20250923T105613Z
LAST-MODIFIED:20250923T105613Z
UID:15418-1786838400-1786924799@andrettiglobal.com
SUMMARY:2026 London E-Prix II
DESCRIPTION:Then\, the curtain closes in London\, as the champion will again be crowned in the UK capital during a doubleheader weekend at the Excel Arena\, bringing Season 12 to an end in August.
URL:https://andrettiglobal.com/event/s12-london-e-prix-ii/
LOCATION:ExCeL London Circuit\, Custom House\, London\, Docklands\, E16\, United Kingdom
CATEGORIES:formula-e
ATTACH;FMTTYPE=image/jpeg:https://andrettiglobal.com/wp-content/uploads/2025/09/jurica-koletic-MLLBlDL5bDw-unsplash.jpg
END:VEVENT
END:VCALENDAR