BEGIN:VCALENDAR
VERSION:2.0
PRODID:-//Andretti Global - ECPv6.15.14//NONSGML v1.0//EN
CALSCALE:GREGORIAN
METHOD:PUBLISH
X-ORIGINAL-URL:https://andrettiglobal.com
X-WR-CALDESC:Events for Andretti Global
REFRESH-INTERVAL;VALUE=DURATION:PT1H
X-Robots-Tag:noindex
X-PUBLISHED-TTL:PT1H
BEGIN:VTIMEZONE
TZID:America/Indiana/Indianapolis
BEGIN:DAYLIGHT
TZOFFSETFROM:-0500
TZOFFSETTO:-0400
TZNAME:EDT
DTSTART:20250309T070000
END:DAYLIGHT
BEGIN:STANDARD
TZOFFSETFROM:-0400
TZOFFSETTO:-0500
TZNAME:EST
DTSTART:20251102T060000
END:STANDARD
BEGIN:DAYLIGHT
TZOFFSETFROM:-0500
TZOFFSETTO:-0400
TZNAME:EDT
DTSTART:20260308T070000
END:DAYLIGHT
BEGIN:STANDARD
TZOFFSETFROM:-0400
TZOFFSETTO:-0500
TZNAME:EST
DTSTART:20261101T060000
END:STANDARD
BEGIN:DAYLIGHT
TZOFFSETFROM:-0500
TZOFFSETTO:-0400
TZNAME:EDT
DTSTART:20270314T070000
END:DAYLIGHT
BEGIN:STANDARD
TZOFFSETFROM:-0400
TZOFFSETTO:-0500
TZNAME:EST
DTSTART:20271107T060000
END:STANDARD
END:VTIMEZONE
BEGIN:VEVENT
DTSTART;VALUE=DATE:20260620
DTEND;VALUE=DATE:20260621
DTSTAMP:20260421T222252
CREATED:20250923T104836Z
LAST-MODIFIED:20251103T182934Z
UID:15409-1781913600-1781999999@andrettiglobal.com
SUMMARY:2026 Sanya E-Prix
DESCRIPTION:Sanya joins Shanghai on the Season 12 calendar\, with China now hosting two events in a single season – a clear reflection of the country’s strategic importance to Formula E and its longstanding place in the series’ history.
URL:https://andrettiglobal.com/event/s12-sanya-e-prix/
LOCATION:Haitang Bay Circuit\, Sanya\, Haitang District\, China
CATEGORIES:formula-e
ATTACH;FMTTYPE=image/jpeg:https://andrettiglobal.com/wp-content/uploads/2025/09/SYX_Original.jpg
END:VEVENT
END:VCALENDAR