BEGIN:VCALENDAR
VERSION:2.0
PRODID:-//Andretti Global - ECPv6.15.14//NONSGML v1.0//EN
CALSCALE:GREGORIAN
METHOD:PUBLISH
X-ORIGINAL-URL:https://andrettiglobal.com
X-WR-CALDESC:Events for Andretti Global
REFRESH-INTERVAL;VALUE=DURATION:PT1H
X-Robots-Tag:noindex
X-PUBLISHED-TTL:PT1H
BEGIN:VTIMEZONE
TZID:America/Indiana/Indianapolis
BEGIN:DAYLIGHT
TZOFFSETFROM:-0500
TZOFFSETTO:-0400
TZNAME:EDT
DTSTART:20250309T070000
END:DAYLIGHT
BEGIN:STANDARD
TZOFFSETFROM:-0400
TZOFFSETTO:-0500
TZNAME:EST
DTSTART:20251102T060000
END:STANDARD
BEGIN:DAYLIGHT
TZOFFSETFROM:-0500
TZOFFSETTO:-0400
TZNAME:EDT
DTSTART:20260308T070000
END:DAYLIGHT
BEGIN:STANDARD
TZOFFSETFROM:-0400
TZOFFSETTO:-0500
TZNAME:EST
DTSTART:20261101T060000
END:STANDARD
BEGIN:DAYLIGHT
TZOFFSETFROM:-0500
TZOFFSETTO:-0400
TZNAME:EDT
DTSTART:20270314T070000
END:DAYLIGHT
BEGIN:STANDARD
TZOFFSETFROM:-0400
TZOFFSETTO:-0500
TZNAME:EST
DTSTART:20271107T060000
END:STANDARD
END:VTIMEZONE
BEGIN:VEVENT
DTSTART;VALUE=DATE:20260815
DTEND;VALUE=DATE:20260816
DTSTAMP:20260422T115200
CREATED:20250923T105533Z
LAST-MODIFIED:20250923T105533Z
UID:15416-1786752000-1786838399@andrettiglobal.com
SUMMARY:2026 London E-Prix I
DESCRIPTION:Then\, the curtain closes in London\, as the champion will again be crowned in the UK capital during a doubleheader weekend at the Excel Arena\, bringing Season 12 to an end in August.
URL:https://andrettiglobal.com/event/s12-london-e-prix-i/
LOCATION:ExCeL London Circuit\, Custom House\, London\, Docklands\, E16\, United Kingdom
CATEGORIES:formula-e
ATTACH;FMTTYPE=image/jpeg:https://andrettiglobal.com/wp-content/uploads/2025/09/jurica-koletic-MLLBlDL5bDw-unsplash.jpg
END:VEVENT
BEGIN:VEVENT
DTSTART;VALUE=DATE:20260816
DTEND;VALUE=DATE:20260817
DTSTAMP:20260422T115200
CREATED:20250923T105613Z
LAST-MODIFIED:20250923T105613Z
UID:15418-1786838400-1786924799@andrettiglobal.com
SUMMARY:2026 London E-Prix II
DESCRIPTION:Then\, the curtain closes in London\, as the champion will again be crowned in the UK capital during a doubleheader weekend at the Excel Arena\, bringing Season 12 to an end in August.
URL:https://andrettiglobal.com/event/s12-london-e-prix-ii/
LOCATION:ExCeL London Circuit\, Custom House\, London\, Docklands\, E16\, United Kingdom
CATEGORIES:formula-e
ATTACH;FMTTYPE=image/jpeg:https://andrettiglobal.com/wp-content/uploads/2025/09/jurica-koletic-MLLBlDL5bDw-unsplash.jpg
END:VEVENT
END:VCALENDAR