BEGIN:VCALENDAR
VERSION:2.0
PRODID:-//Andretti Global - ECPv6.15.14//NONSGML v1.0//EN
CALSCALE:GREGORIAN
METHOD:PUBLISH
X-WR-CALNAME:Andretti Global
X-ORIGINAL-URL:https://andrettiglobal.com
X-WR-CALDESC:Events for Andretti Global
REFRESH-INTERVAL;VALUE=DURATION:PT1H
X-Robots-Tag:noindex
X-PUBLISHED-TTL:PT1H
BEGIN:VTIMEZONE
TZID:America/New_York
BEGIN:DAYLIGHT
TZOFFSETFROM:-0500
TZOFFSETTO:-0400
TZNAME:EDT
DTSTART:20240310T070000
END:DAYLIGHT
BEGIN:STANDARD
TZOFFSETFROM:-0400
TZOFFSETTO:-0500
TZNAME:EST
DTSTART:20241103T060000
END:STANDARD
BEGIN:DAYLIGHT
TZOFFSETFROM:-0500
TZOFFSETTO:-0400
TZNAME:EDT
DTSTART:20250309T070000
END:DAYLIGHT
BEGIN:STANDARD
TZOFFSETFROM:-0400
TZOFFSETTO:-0500
TZNAME:EST
DTSTART:20251102T060000
END:STANDARD
BEGIN:DAYLIGHT
TZOFFSETFROM:-0500
TZOFFSETTO:-0400
TZNAME:EDT
DTSTART:20260308T070000
END:DAYLIGHT
BEGIN:STANDARD
TZOFFSETFROM:-0400
TZOFFSETTO:-0500
TZNAME:EST
DTSTART:20261101T060000
END:STANDARD
END:VTIMEZONE
BEGIN:VTIMEZONE
TZID:America/Indiana/Indianapolis
BEGIN:DAYLIGHT
TZOFFSETFROM:-0500
TZOFFSETTO:-0400
TZNAME:EDT
DTSTART:20240310T070000
END:DAYLIGHT
BEGIN:STANDARD
TZOFFSETFROM:-0400
TZOFFSETTO:-0500
TZNAME:EST
DTSTART:20241103T060000
END:STANDARD
BEGIN:DAYLIGHT
TZOFFSETFROM:-0500
TZOFFSETTO:-0400
TZNAME:EDT
DTSTART:20250309T070000
END:DAYLIGHT
BEGIN:STANDARD
TZOFFSETFROM:-0400
TZOFFSETTO:-0500
TZNAME:EST
DTSTART:20251102T060000
END:STANDARD
BEGIN:DAYLIGHT
TZOFFSETFROM:-0500
TZOFFSETTO:-0400
TZNAME:EDT
DTSTART:20260308T070000
END:DAYLIGHT
BEGIN:STANDARD
TZOFFSETFROM:-0400
TZOFFSETTO:-0500
TZNAME:EST
DTSTART:20261101T060000
END:STANDARD
END:VTIMEZONE
BEGIN:VEVENT
DTSTART;VALUE=DATE:20250712
DTEND;VALUE=DATE:20250713
DTSTAMP:20260421T052347
CREATED:20240105T195051Z
LAST-MODIFIED:20240916T202219Z
UID:6858-1752278400-1752364799@andrettiglobal.com
SUMMARY:Iowa Speedway
DESCRIPTION:75 LAPS | 67.05 MILES\nWith an amazing concert lineup featuring four of the most popular acts in music today and the only NTT INDYCAR SERIES doubleheader weekend of the year\, Hy-Vee INDYCAR Race Weekend will return to Iowa Speedway\, July 21-23\, 2023. \nIowa Speedway in Newton\, Iowa is a .875-mile tri-oval with variable banking that drives like a much bigger superspeedway. With laps under 18 seconds\, “The World’s Fastest Short Track” is exceptionally demanding physically and mentally on drivers. It was designed with the second generation of SAFER Barrier around the entire perimeter of the racetrack.
URL:https://andrettiglobal.com/event/iowa-speedway/
LOCATION:Newton\, Newton\, IA\, United States
CATEGORIES:indy-nxt
ATTACH;FMTTYPE=image/jpeg:https://andrettiglobal.com/wp-content/uploads/2024/01/Packed-grandstands-Hy-Vee-Homefront-250-Presented-by-Instacart-By_-Joe-Skibinski_Ref-Image-Without-Watermark_m87729.jpg
END:VEVENT
BEGIN:VEVENT
DTSTART;VALUE=DATE:20250712
DTEND;VALUE=DATE:20250713
DTSTAMP:20260421T052347
CREATED:20240814T150159Z
LAST-MODIFIED:20241030T172907Z
UID:13103-1752278400-1752364799@andrettiglobal.com
SUMMARY:2025 Berlin E-Prix I
DESCRIPTION:Berlin maintains its accolade of being the only city to be present on the calendar since Season 1. This time racing is set to run Saturday 12 and Sunday 13 July\, as the first of two European double headers to close out Season 11.
URL:https://andrettiglobal.com/event/berlin-e-prix-round-13/
LOCATION:Tempelhof Airport Street Circuit\, Tempelhofer Feld\, Berlin\, Tempelhofer Damm\, 12101\, Germany
CATEGORIES:formula-e
ATTACH;FMTTYPE=image/webp:https://andrettiglobal.com/wp-content/uploads/2024/08/14_15_Berlin.webp
END:VEVENT
BEGIN:VEVENT
DTSTART;TZID=America/New_York:20250712T080000
DTEND;TZID=America/New_York:20250712T170000
DTSTAMP:20260421T052347
CREATED:20240105T195123Z
LAST-MODIFIED:20240916T201437Z
UID:6862-1752307200-1752339600@andrettiglobal.com
SUMMARY:Hy-Vee Indycar Race Weekend Race 1
DESCRIPTION:250 LAPS | 223.5 MILES\nWith an amazing concert lineup featuring four of the most popular acts in music today and the only NTT INDYCAR SERIES doubleheader weekend of the year\, Hy-Vee INDYCAR Race Weekend will return to Iowa Speedway\, July 21-23\, 2023. \nIowa Speedway in Newton\, Iowa is a .875-mile tri-oval with variable banking that drives like a much bigger superspeedway. With laps under 18 seconds\, “The World’s Fastest Short Track” is exceptionally demanding physically and mentally on drivers. It was designed with the second generation of SAFER Barrier around the entire perimeter of the racetrack.
URL:https://andrettiglobal.com/event/hy-vee-indycar-race-weekend-race-1/
LOCATION:Newton\, Newton\, IA\, United States
CATEGORIES:indycar
ATTACH;FMTTYPE=image/jpeg:https://andrettiglobal.com/wp-content/uploads/2024/01/Packed-grandstands-Hy-Vee-Homefront-250-Presented-by-Instacart-By_-Joe-Skibinski_Ref-Image-Without-Watermark_m87729.jpg
END:VEVENT
END:VCALENDAR