BEGIN:VCALENDAR
VERSION:2.0
PRODID:-//Andretti Global - ECPv6.15.14//NONSGML v1.0//EN
CALSCALE:GREGORIAN
METHOD:PUBLISH
X-ORIGINAL-URL:https://andrettiglobal.com
X-WR-CALDESC:Events for Andretti Global
REFRESH-INTERVAL;VALUE=DURATION:PT1H
X-Robots-Tag:noindex
X-PUBLISHED-TTL:PT1H
BEGIN:VTIMEZONE
TZID:America/New_York
BEGIN:DAYLIGHT
TZOFFSETFROM:-0500
TZOFFSETTO:-0400
TZNAME:EDT
DTSTART:20230312T070000
END:DAYLIGHT
BEGIN:STANDARD
TZOFFSETFROM:-0400
TZOFFSETTO:-0500
TZNAME:EST
DTSTART:20231105T060000
END:STANDARD
BEGIN:DAYLIGHT
TZOFFSETFROM:-0500
TZOFFSETTO:-0400
TZNAME:EDT
DTSTART:20240310T070000
END:DAYLIGHT
BEGIN:STANDARD
TZOFFSETFROM:-0400
TZOFFSETTO:-0500
TZNAME:EST
DTSTART:20241103T060000
END:STANDARD
BEGIN:DAYLIGHT
TZOFFSETFROM:-0500
TZOFFSETTO:-0400
TZNAME:EDT
DTSTART:20250309T070000
END:DAYLIGHT
BEGIN:STANDARD
TZOFFSETFROM:-0400
TZOFFSETTO:-0500
TZNAME:EST
DTSTART:20251102T060000
END:STANDARD
END:VTIMEZONE
BEGIN:VEVENT
DTSTART;VALUE=DATE:20240630
DTEND;VALUE=DATE:20240701
DTSTAMP:20260425T221616
CREATED:20240115T182953Z
LAST-MODIFIED:20240227T154259Z
UID:11506-1719705600-1719791999@andrettiglobal.com
SUMMARY:2024 Portland E-Prix II
DESCRIPTION:FULL POWER IN PORTLAND \nFormula E is heading back to the Portland International Raceway\, last season there were overtakes aplenty around this high-speed circuit. Expect more hotly contested\, wheel-to-wheel action when all-electric racing returns to Portland\, Oregon in 2024.
URL:https://andrettiglobal.com/event/2024-hankook-portland-e-prix-round-14/
LOCATION:Portland\, Portland\, OR\, United States
CATEGORIES:formula-e
ATTACH;FMTTYPE=image/jpeg:https://andrettiglobal.com/wp-content/uploads/2024/01/13_14_Portland_Option-3-scaled.jpg
END:VEVENT
END:VCALENDAR